BEGIN:VCALENDAR
VERSION:2.0
PRODID:-//A Breath of Hope Lung Cancer Foundation - ECPv6.15.20//NONSGML v1.0//EN
CALSCALE:GREGORIAN
METHOD:PUBLISH
X-WR-CALNAME:A Breath of Hope Lung Cancer Foundation
X-ORIGINAL-URL:https://abreathofhope.org
X-WR-CALDESC:Events for A Breath of Hope Lung Cancer Foundation
REFRESH-INTERVAL;VALUE=DURATION:PT1H
X-Robots-Tag:noindex
X-PUBLISHED-TTL:PT1H
BEGIN:VTIMEZONE
TZID:America/Chicago
BEGIN:DAYLIGHT
TZOFFSETFROM:-0600
TZOFFSETTO:-0500
TZNAME:CDT
DTSTART:20210314T080000
END:DAYLIGHT
BEGIN:STANDARD
TZOFFSETFROM:-0500
TZOFFSETTO:-0600
TZNAME:CST
DTSTART:20211107T070000
END:STANDARD
BEGIN:DAYLIGHT
TZOFFSETFROM:-0600
TZOFFSETTO:-0500
TZNAME:CDT
DTSTART:20220313T080000
END:DAYLIGHT
BEGIN:STANDARD
TZOFFSETFROM:-0500
TZOFFSETTO:-0600
TZNAME:CST
DTSTART:20221106T070000
END:STANDARD
BEGIN:DAYLIGHT
TZOFFSETFROM:-0600
TZOFFSETTO:-0500
TZNAME:CDT
DTSTART:20230312T080000
END:DAYLIGHT
BEGIN:STANDARD
TZOFFSETFROM:-0500
TZOFFSETTO:-0600
TZNAME:CST
DTSTART:20231105T070000
END:STANDARD
BEGIN:DAYLIGHT
TZOFFSETFROM:-0600
TZOFFSETTO:-0500
TZNAME:CDT
DTSTART:20240310T080000
END:DAYLIGHT
BEGIN:STANDARD
TZOFFSETFROM:-0500
TZOFFSETTO:-0600
TZNAME:CST
DTSTART:20241103T070000
END:STANDARD
END:VTIMEZONE
BEGIN:VEVENT
DTSTART;TZID=America/Chicago:20231110T180000
DTEND;TZID=America/Chicago:20231110T220000
DTSTAMP:20260421T101020
CREATED:20230915T182933Z
LAST-MODIFIED:20231107T215754Z
UID:10000029-1699639200-1699653600@abreathofhope.org
SUMMARY:2023 Shining Bright Gala
DESCRIPTION:Please email hannah@abreathofhope.org for information on purchasing tickets.\nWe can’t wait to see you at the 2023 A Breath of Hope Shining Bright Gala on Friday\, November 10th for a beautiful evening at the Renaissance Minneapolis Hotel Depot. Did we mention it’s A Breath of Hope Lung Foundation’s 15th birthday this year? Expect a fun celebration and birthday party for grown-ups!\nThis event features live entertainment\, delicious food\, wine raffle\, awesome silent and live auctions (sneak peek of items below)\, and an inspiring evening filled with impact\, honor\, and hope for a day when lung cancer no longer claims the lives and health of our loved ones. Make sure you join us after the live auction and awards for a swingin’ good time as we dance the night away to a live band.\nSchedule of Evening: \n     5 PM: VIP Reception for Sponsors (featuring local celebrity servers) \n     6 PM: Happy Hour\, Silent Auction \n     7 PM: Dinner\, Welcome\, Vigil\, Program\, Fund-A-Need\, Birthday Cake \n     8 PM: Live Auction and Awards \n     9-10 PM: Social Hour\, Live Band\, Swing Dancing \nWe are excited to welcome Chris Hrapsky from KARE 11 TV as this year’s emcee! \n\n\n\nSponsor/Exhibitor Benefit Chart\nSNEAK PEAK OF THIS YEAR’S LIVE AUCTION ITEMS\n\nWe are excited to share a SNEAK PEEK of this year’s live auction items (bidding only available in person) at the Shining Bright Gala on Friday\, November 10th. Thank you to our generous donors that are making our auction exceptional! Have something to donate? Email us at info@abreathofhope.org! \n– Enjoy a 1-week stay (March 16th – 23rd) at a beautiful lakeside estate home on the Lexington Golf Course in Fort Myers\, FL for 4-6 people. The package includes 4 rounds of golf\, 2 fine dining restaurant gift cards\, MN Twins game tickets\, and 6 tickets to The Beatles Show at the Barbara B Mann Performing Arts Theatre.  \n– Take in the holiday season with a Holiday Lights Limo Tour in the Twin Cities. Current reservation is for Friday\, Dec. 8th\, but bidder can make changes. The package includes a limo for up to 10 people\, $600 Visa gift card for dinner at a Twin Cities restaurant of your choice and a $200 gift card for ‘adult beverages’.  \n– Your winter entertainment is covered! 4 people will enjoy 4 amazing shows at the Orpheum Theatre with generous restaurant gift cards for each show.  \n– Enjoy a rockin’ Mother’s Day Weekend at the Las Vegas Shania Twain concert with 4 front section tickets\, a stay at a luxury hotel on the strip\, and restaurant and Uber gift cards. \n– Relax in beautiful Bonita Springs\, FL with a 1-week stay (April – December) for up to 6 people in a luxury 3 bedroom condo. \n– Dance the night away with an in-home Latin American party for 8 people with a dance instructor and private chef (must take place within 15 miles of Wayzata). The package will also include a margarita basket. \nGala Auction Item Donation Form
URL:https://abreathofhope.org/event/2023-shining-bright-gala-2/
LOCATION:Renaissance Minneapolis Hotel\, The Depot\, 225 3rd Avenue South\, Minneapolis\, MN\, 55401\, United States
CATEGORIES:ABOH Events,Charity
ATTACH;FMTTYPE=image/png:https://abreathofhope.org/wp-content/uploads/2023/09/2023-Gala-Registration-Open.png
GEO:44.9798306;-93.2628441
X-APPLE-STRUCTURED-LOCATION;VALUE=URI;X-ADDRESS=Renaissance Minneapolis Hotel The Depot 225 3rd Avenue South Minneapolis MN 55401 United States;X-APPLE-RADIUS=500;X-TITLE=225 3rd Avenue South:geo:-93.2628441,44.9798306
END:VEVENT
BEGIN:VEVENT
DTSTART;TZID=America/Chicago:20221111T180000
DTEND;TZID=America/Chicago:20221111T220000
DTSTAMP:20260421T101020
CREATED:20211221T205007Z
LAST-MODIFIED:20230303T184207Z
UID:10000019-1668189600-1668204000@abreathofhope.org
SUMMARY:2022 Shining Bright Gala
DESCRIPTION:Event Photos    Red Carpet Photos    Happy Hour Photos \nThis year’s theme: Roll Out the Red Carpet for Lung Cancer Research!\n \nWe are so looking forward to seeing you at the 2022 A Breath of Hope Shining Bright Gala on Friday\, November 11th at the Renaissance Minneapolis Hotel\, The Depot.\nWe are honored to have Chris Hrapsky from KARE 11 as our event emcee for the evening.\nLive entertainment\, delicious food\, wine raffle\, awesome silent and live auctions\, and an evening filled with fun\, impact\, honor\, and hope.\n  \nSchedule of Evening: \n     5 PM: VIP Reception \n     6 PM: Event Happy Hour\, Silent Auction \n     7 PM: Dinner\, Welcome\, Vigil and Program \n     8 PM: Live Auction and Awards \n     9-10 PM: Social Hour \n  \nDinner includes salad\, plated entrée selection\, and dessert. Choice of entrée selections (one per ticket): \n\nWild Rice Chicken | Marinated chicken stuffed with Minnesota wild rice\, mushroom demi-glace (GF)\nBistro Steak | 8 oz. steak with red wine-thyme demi-glace (GF)\nVegetarian | Marinated vegetable kabob on Israeli coconut rice with a serrano pineapple glaze (GF)\n\n  \nSpecial ‘THANK YOU’ to the 2022 Shining Bright Gala Committee: Kelly Link\, Anne Bacigalupo\, Mark Bacigalupo\, Cassie Ryan\, Teri Kast\, Gary Brausen\, Randy Hertog\, Emily Elswick\, Lori Shipman.\n  \nEVENT SPONSORSHIP INFORMATION\nTHANK YOU GALA SPONSORS!\n\n\n\n\n	DRAMATIC SPONSOR:\n\n\n\n\n	\n\n\n\n\nIn-Kind Donations Provided by   
URL:https://abreathofhope.org/event/2022-shining-bright-gala/
LOCATION:Renaissance Minneapolis Hotel\, The Depot\, 225 3rd Avenue South\, Minneapolis\, MN\, 55401\, United States
CATEGORIES:ABOH Events,Charity,Upcoming Events
ATTACH;FMTTYPE=image/jpeg:https://abreathofhope.org/wp-content/uploads/2021/12/BreathofHopeGala-01415-1-1-scaled.jpg
GEO:44.9798306;-93.2628441
X-APPLE-STRUCTURED-LOCATION;VALUE=URI;X-ADDRESS=Renaissance Minneapolis Hotel The Depot 225 3rd Avenue South Minneapolis MN 55401 United States;X-APPLE-RADIUS=500;X-TITLE=225 3rd Avenue South:geo:-93.2628441,44.9798306
END:VEVENT
BEGIN:VEVENT
DTSTART;TZID=America/Chicago:20220613T133000
DTEND;TZID=America/Chicago:20220613T200000
DTSTAMP:20260421T101020
CREATED:20220118T193931Z
LAST-MODIFIED:20220419T162423Z
UID:10000020-1655127000-1655150400@abreathofhope.org
SUMMARY:2022 ABOH Golf Classic: Afternoon Tournament
DESCRIPTION:*AFTERNOON TOURNAMENT GOLFING SPOTS ARE FULL. MORNING TOURNAMENT INFORMATION HERE\nMORNING GOLF REGISTRATION\, SPONSORSHIPS\, DINNER-ONLY RESERVATIONS ARE AVAILABLE HERE \nJoin us for our 10th Annual ABOH Golf Classic. Skip the office\, grab your friends\, challenge KFAN’s Common Man at a hole\, and play a round of golf\, followed by happy hour\, appetizers and dinner!\nThink about the health benefits – not only your own after an exhilarating round of golf\, but the benefit to you and others when you support the fight to end lung cancer. It’s a win-win! \nRegistration Includes: \nGolf Cart  |  18 Holes  |  Shotgun Scramble Start  |  Happy Hour & Appetizers   |  Dinner  |  Hole Contest & Prizes  |  Silent Auction & Raffle \nEVENT SPONSORSHIP INFORMATION\nTHANK YOU TO OUR SPONSORS:\n     TITLE SPONSOR:             DIAMOND SPONSOR: \n  \nHOLE SPONSORS:\n\n\n\n\n	PLATINUM SPONSORS:GOLD SPONSORS:SILVER SPONSORS:BRONZE SPONSORS:\n\n\n\n\n	Shirley Kern\n\n\n	Edward Egan\n\n\n	Torrison FamilyTom Kasbohm\n\n\n	Mark & Anne BacigalupoCurt Anderson\n\n\n	Tradition Mortgage/Team KurversDebbie Pasvogel\n\n\n	Al & Ellen Van RavenswaayHarvey Weiss/\nLend Me Your Ear\n\n\n	Kevin Campbell\n\n\n	Steve & Kelly Link
URL:https://abreathofhope.org/event/2022-golf-classic/
LOCATION:Rush Creek Golf Club\, 7801 County Rd 101\, Maple Grove\, MN\, 55311\, United States
CATEGORIES:ABOH Events,Charity,Upcoming Events
ATTACH;FMTTYPE=image/png:https://abreathofhope.org/wp-content/uploads/2022/01/2022-golf-classic-800-x-400-px-e1642537500496.png
GEO:45.0968334;-93.5144757
X-APPLE-STRUCTURED-LOCATION;VALUE=URI;X-ADDRESS=Rush Creek Golf Club 7801 County Rd 101 Maple Grove MN 55311 United States;X-APPLE-RADIUS=500;X-TITLE=7801 County Rd 101:geo:-93.5144757,45.0968334
END:VEVENT
BEGIN:VEVENT
DTSTART;TZID=America/Chicago:20220613T070000
DTEND;TZID=America/Chicago:20220613T130000
DTSTAMP:20260421T101020
CREATED:20220419T161624Z
LAST-MODIFIED:20220517T173443Z
UID:10000023-1655103600-1655125200@abreathofhope.org
SUMMARY:ABOH Golf Classic Double-Shotgun Tournament - 7:30 AM Tee Time
DESCRIPTION:Join us at the 10th Annual ABOH Golf Classic!\nMorning tee times and sponsorships are available.\nREGISTER HERE for 7:30 am tee time (afternoon golf spots are full)\nSkip the office\, grab your friends\, have fun with KFAN’s Common Man\, play a round of golf\, and stay for lunch – fresh off the grill! Think about the health benefits – not only your own after an exhilarating round of golf\, but the benefit to you and others when you support the fight to end lung cancer. It’s a win-win!\nRegistration Includes:\nGolf Cart | 18 Holes | Shotgun Scramble Start | Lunch | Hole Contest & Prizes | Silent Auction & Raffle\nEVENT SPONSORSHIP INFORMATION\nTHANK YOU TO OUR SPONSORS:\n    TITLE SPONSOR:  DIAMOND SPONSOR: \nHOLE SPONSORS:\n\n\n\n\n	PLATINUM SPONSORS:GOLD SPONSORS:SILVER SPONSORS:BRONZE SPONSORS:\n\n\n\n\n	Shirley Kern\n\n\n	Edward Egan\n\n\n	Torrison FamilyTom Kasbohm\n\n\n	Mark & Anne BacigalupoCurt Anderson\n\n\n	Tradition Mortgage/Team KurversDebbie Pasvogel\n\n\n	Al & Ellen Van RavenswaayHarvey Weiss/\nLend Me Your Ear\n\n\n	Kevin Campbell\n\n\n	Steve & Kelly Link
URL:https://abreathofhope.org/event/2022-aboh-golf-classic-morning-tournament/
LOCATION:Rush Creek Golf Club\, 7801 County Rd 101\, Maple Grove\, MN\, 55311\, United States
CATEGORIES:ABOH Events,Charity,Upcoming Events
ATTACH;FMTTYPE=image/png:https://abreathofhope.org/wp-content/uploads/2022/01/2022-golf-classic-800-x-400-px-e1642537500496.png
GEO:45.0968334;-93.5144757
X-APPLE-STRUCTURED-LOCATION;VALUE=URI;X-ADDRESS=Rush Creek Golf Club 7801 County Rd 101 Maple Grove MN 55311 United States;X-APPLE-RADIUS=500;X-TITLE=7801 County Rd 101:geo:-93.5144757,45.0968334
END:VEVENT
END:VCALENDAR