BEGIN:VCALENDAR
VERSION:2.0
PRODID:-//A Breath of Hope Lung Cancer Foundation - ECPv6.15.20//NONSGML v1.0//EN
CALSCALE:GREGORIAN
METHOD:PUBLISH
X-ORIGINAL-URL:https://abreathofhope.org
X-WR-CALDESC:Events for A Breath of Hope Lung Cancer Foundation
REFRESH-INTERVAL;VALUE=DURATION:PT1H
X-Robots-Tag:noindex
X-PUBLISHED-TTL:PT1H
BEGIN:VTIMEZONE
TZID:America/Chicago
BEGIN:DAYLIGHT
TZOFFSETFROM:-0600
TZOFFSETTO:-0500
TZNAME:CDT
DTSTART:20230312T080000
END:DAYLIGHT
BEGIN:STANDARD
TZOFFSETFROM:-0500
TZOFFSETTO:-0600
TZNAME:CST
DTSTART:20231105T070000
END:STANDARD
BEGIN:DAYLIGHT
TZOFFSETFROM:-0600
TZOFFSETTO:-0500
TZNAME:CDT
DTSTART:20240310T080000
END:DAYLIGHT
BEGIN:STANDARD
TZOFFSETFROM:-0500
TZOFFSETTO:-0600
TZNAME:CST
DTSTART:20241103T070000
END:STANDARD
BEGIN:DAYLIGHT
TZOFFSETFROM:-0600
TZOFFSETTO:-0500
TZNAME:CDT
DTSTART:20250309T080000
END:DAYLIGHT
BEGIN:STANDARD
TZOFFSETFROM:-0500
TZOFFSETTO:-0600
TZNAME:CST
DTSTART:20251102T070000
END:STANDARD
END:VTIMEZONE
BEGIN:VEVENT
DTSTART;TZID=America/Chicago:20241025T080000
DTEND;TZID=America/Chicago:20241025T120000
DTSTAMP:20260421T071519
CREATED:20240610T182000Z
LAST-MODIFIED:20241024T161039Z
UID:10000041-1729843200-1729857600@abreathofhope.org
SUMMARY:2024 Minnesota Biomarker Summit - For Providers
DESCRIPTION:Friday\, October 25\, 2024 | 8 a.m. to 1 p.m. | Edina\, Minnesota\nA MULTIDISCIPLINARY EVENT FOR PHYSICIANS AND HEALTHCARE PROVIDERS\nPhysicians and providers working in the lung cancer space – please join A Breath of Hope and the MN lung cancer community for the first-ever Minnesota Biomarker Summit presented by Bristol-Myers Squibb. The event will be held in Edina\, MN\, on Friday\, October 25\, from 8 a.m. to noon. Networking meals will be available at 7 a.m. and noon. There is no cost to attend this event.  \nAlong with a dedicated group of lung cancer experts from healthcare systems in MN\, ABOH will host this summit to engage and update oncologists\, pathologists\, and other medical professionals who are responsible within their system for making decisions about treatments or ordering biomarker testing for newly diagnosed lung cancer patients. \nThank you to our sponsors!\nPresenting Sponsor ($25\,000)\n\n  \nDiamond Sponsor ($20\,000)\n\n\nPlatinum Sponsors ($10\,000)\n\n\n\n\n\n\nGold Sponsors ($5\,000)\n  \n\n\n\n\n\n\n\n\n\n\n\n\n\n\n\n\n\nSilver Sponsors ($3000)\nBoehringer Ingelheim\nCaris Life Sciences\nGuardant Health\nBronze Sponsors ($1\,500)\nAbbVie\nJazz Pharmaceuticals\nPuma Biotechnology\, Inc.\nPMV Pharmaceuticals\nRegeneron\n\nEvent Itinerary\n7 a.m. – Networking Breakfast/Exhibitor Tables (optional) \n8 a.m. – Early\, Broad-based Biomarker Testing – Essential for Determining Optimal NSCLC Treatment \n(Bruce Johnson\, MD\, Chief Clinical Research Officer and Institute Physician at the Dana Farber Cancer Institute and Brigham and Women’s Hospital\, Professor Emeritus of Medicine at Harvard Medical School) \n9:30 a.m. – How to Test? Blood vs Tissue and Recommended Panel Size \n(Ying-Chun Lo\, MD\, PhD\, Assistant Professor and Consultant\, Department of Laboratory Medicine and Pathology\, Mayo Clinic; and Andrew Nelson\, MD\, PhD\, Department of Laboratory Medicine and Pathology\, University of Minnesota) \n11 a.m. – How to Implement Reflex Biomarker Testing in Your Healthcare System \n(Overcoming hospital and clinical workflow barriers to testing. Panel: Oncologists from Mayo Clinic\, University of Minnesota\, Allina Health\, Rural Cancer Institute\, Lakewood Health\, Minneapolis VA\, and more! Emcee: Abbie Begnaud\, MD\, University of Minnesota) \nNoon – Lunch/Brainstorming Session (optional) \n(We hope you will stick around to hear about the exciting new Minnesota Biomarker Bill from Rep. Liz Reyer and our friend Emily Myatt at ASC CAN\, followed by a brainstorming session to determine next steps that will facilitate and support clinicians to order appropriate and timely biomarker test.) \n\nPhysicians/Providers – register to attend here\nEligible participants will receive a confirmation email with event details. A virtual option is available\, but only during presentations.\n\nPharma representatives whose companies sponsor the event will be invited to join us at this event and be part of the conversation. The sponsor benefit chart below shows the benefits received at each gift level and the number of guests. \n\nSponsor benefit chart\n\nOur specific goals for hosting this biomarker summit: \n\nEncourage collaboration among medical professionals to build a Minnesota healthcare community that understands the importance of precision medicine in lung cancer\, feels comfortable testing and identifying the best therapy\, and commits to helping their healthcare system develop a systemwide practice of reflex biomarker testing.\nIncrease the number of MN lung cancer patients receiving biomarker testing. Biomarker testing/molecular profiling ensures lung cancer patients get the right treatment at the right time. Biomarker testing is not always ordered for metastatic lung cancer patients – let’s talk about solutions to overcome the barriers.\n\n \n*This event is open to physicians/providers working in the lung cancer space. If you are a lung cancer patient or caregiver\, you are invited to attend the Midwest Lung Cancer Patient Summit on September 28. More information regarding that event here.  \nNOTE: A Breath of Hope hosts one the most visited patient education programs in the world (Animated Patient’s Guide to Lung Cancer found at youandlungcancer.com)\, funds translational U.S. research\, provides patient support services\, and works to address areas of concern\, such as screening and biomarker testing. \nEvery step we take is A Breath of Hope for the thousands of Minnesota families that lose their loved ones to lung cancer each year. We hope you can join us!
URL:https://abreathofhope.org/event/2024-minnesota-biomarker-summit/
CATEGORIES:ABOH Events,For health care professionals
ATTACH;FMTTYPE=image/png:https://abreathofhope.org/wp-content/uploads/2024/06/Biomarker-Summit-2024-Cover-1-e1718043972300.png
END:VEVENT
END:VCALENDAR